BEGIN:VCALENDAR
VERSION:2.0
PRODID:-//Run Rhody - ECPv6.15.20//NONSGML v1.0//EN
CALSCALE:GREGORIAN
METHOD:PUBLISH
X-ORIGINAL-URL:https://runrhody.com
X-WR-CALDESC:Events for Run Rhody
REFRESH-INTERVAL;VALUE=DURATION:PT1H
X-Robots-Tag:noindex
X-PUBLISHED-TTL:PT1H
BEGIN:VTIMEZONE
TZID:UTC
BEGIN:STANDARD
TZOFFSETFROM:+0000
TZOFFSETTO:+0000
TZNAME:UTC
DTSTART:20220101T000000
END:STANDARD
END:VTIMEZONE
BEGIN:VEVENT
DTSTART;TZID=UTC:20230903T100000
DTEND;TZID=UTC:20230903T110000
DTSTAMP:20260420T121217
CREATED:20230526T202854Z
LAST-MODIFIED:20230612T221030Z
UID:2164-1693735200-1693738800@runrhody.com
SUMMARY:NK5K
DESCRIPTION:
URL:https://runrhody.com/event/nk5k/
LOCATION:North Kingston High School\, 150 Fairway Dr\, North Kingstown\, RI\, 02852\, United States
ATTACH;FMTTYPE=image/jpeg:https://runrhody.com/wp-content/uploads/2023/05/mast_run2.jpg
END:VEVENT
END:VCALENDAR