BEGIN:VCALENDAR
VERSION:2.0
PRODID:-//Run Rhody - ECPv6.15.20//NONSGML v1.0//EN
CALSCALE:GREGORIAN
METHOD:PUBLISH
X-WR-CALNAME:Run Rhody
X-ORIGINAL-URL:https://runrhody.com
X-WR-CALDESC:Events for Run Rhody
REFRESH-INTERVAL;VALUE=DURATION:PT1H
X-Robots-Tag:noindex
X-PUBLISHED-TTL:PT1H
BEGIN:VTIMEZONE
TZID:UTC
BEGIN:STANDARD
TZOFFSETFROM:+0000
TZOFFSETTO:+0000
TZNAME:UTC
DTSTART:20250101T000000
END:STANDARD
END:VTIMEZONE
BEGIN:VEVENT
DTSTART;TZID=UTC:20260329T110000
DTEND;TZID=UTC:20260329T120000
DTSTAMP:20260423T144057
CREATED:20210725T203346Z
LAST-MODIFIED:20260219T174826Z
UID:488-1774782000-1774785600@runrhody.com
SUMMARY:Ivy Rehab/Elite Physical Therapy Shamrock Shuffle 5K (Tour de Patrick Race #3)
DESCRIPTION:
URL:https://runrhody.com/event/shamrock-shuffle-5k/
LOCATION:North Kingston High School\, 150 Fairway Dr\, North Kingstown\, RI\, 02852\, United States
ATTACH;FMTTYPE=image/jpeg:https://runrhody.com/wp-content/uploads/2021/07/Tour-De-Patrick-7.jpg
END:VEVENT
END:VCALENDAR